BEGIN:VCALENDAR
VERSION:2.0
PRODID:-//wp-events-plugin.com//7.2.3.1//EN
BEGIN:VEVENT
UID:2@agc.org.au
DTSTART;VALUE=DATE:20181014
DTEND;VALUE=DATE:20181019
DTSTAMP:20180704T164508Z
URL:https://www.agc.org.au/events/australian-geoscience-council-convention
 -big-issues-and-ideas-in-geoscience/
SUMMARY:Australian Geoscience Council Convention "Big Issues and Ideas in G
 eoscience"
DESCRIPTION:With the support and commitment of our eight Member Organisatio
 ns the AGC is developing the AGC Convention 2018 (AGCC 2018). This will be
  held in Adelaide during Earth Science Week (14-18 October\, 2018). Planni
 ng is underway with the recent appointment of a Professional Conference Or
 ganiser\, finalisation of the venue and formation of the Organising Commit
 tee. Dr Chris Yeats will Chair the Technical & Scientific Program Subcommi
 ttee and various other Subcommittee Chairs are currently being appointed
ATTACH;FMTTYPE=image/jpeg:https://www.agc.org.au/wp-content/uploads/2018/0
 7/img-2.jpg
LOCATION:University of Adelaide\, University of Adelaide\,Adelaide SA 5005\
 , Australia\, Adelaide\, SA\, 5005\, Australia
GEO:-34.91883;138.60530700000004
X-APPLE-STRUCTURED-LOCATION;VALUE=URI;X-ADDRESS=University of Adelaide\,Ade
 laide SA 5005\, Australia\, Adelaide\, SA\, 5005\, Australia;X-APPLE-RADIU
 S=100;X-TITLE=University of Adelaide:geo:-34.91883,138.60530700000004
END:VEVENT
END:VCALENDAR