BEGIN:VCALENDAR
VERSION:2.0
PRODID:-//wp-events-plugin.com//7.2.3.1//EN
BEGIN:VEVENT
UID:6@agc.org.au
DTSTART;VALUE=DATE:20240805
DTEND;VALUE=DATE:20240808
DTSTAMP:20240409T125803Z
URL:https://www.agc.org.au/events/diggers-and-dealers/
SUMMARY:Diggers and Dealers
DESCRIPTION:Conference website
ATTACH;FMTTYPE=image/jpeg:https://www.agc.org.au/wp-content/uploads/2024/0
 4/dnd_logo.png
LOCATION:Kalgoorlie\, Goldfields Arts Centre\, Kalgoorlie\, WA\, Australia
X-APPLE-STRUCTURED-LOCATION;VALUE=URI;X-ADDRESS=Goldfields Arts Centre\, Ka
 lgoorlie\, WA\, Australia;X-APPLE-RADIUS=100;X-TITLE=Kalgoorlie:geo:0,0
END:VEVENT
END:VCALENDAR