BEGIN:VCALENDAR
VERSION:2.0
PRODID:-//wp-events-plugin.com//7.2.3.1//EN
BEGIN:VEVENT
UID:32@agc.org.au
DTSTART;VALUE=DATE:20260905
DTEND;VALUE=DATE:20260908
DTSTAMP:20251009T050743Z
URL:https://www.agc.org.au/events/minerals-week/
SUMMARY:Minerals Week
DESCRIPTION:
END:VEVENT
END:VCALENDAR