BEGIN:VCALENDAR
VERSION:2.0
PRODID:-//wp-events-plugin.com//7.2.3.1//EN
BEGIN:VEVENT
UID:27@agc.org.au
DTSTART;VALUE=DATE:20260303
DTEND;VALUE=DATE:20260304
DTSTAMP:20251009T050534Z
URL:https://www.agc.org.au/events/national-jewellery-day-gemstones/
SUMMARY:National Jewellery day - gemstones
DESCRIPTION:
END:VEVENT
END:VCALENDAR